BEGIN:VCALENDAR
VERSION:2.0
PRODID:-//AudioTheme 2.3.8
BEGIN:VEVENT
UID:urn:uuid:2e2a55b0-1c34-4a7e-86cb-0aa9f4dbba35
URL:https://forcedtomode.de/shows/hsd-gewerkschaftshaus-7/
DTSTART;TZID=GMT:20230304T180000
SUMMARY:HSD Gewerkschaftshaus
DESCRIPTION:SOLD OUT!
LOCATION:HsD Gewerkschaftshaus\, Juri-Gagarin-Ring 150  \, Erfurt\, (GER)\, Germany\, 99084
END:VEVENT
END:VCALENDAR
