BEGIN:VCALENDAR
VERSION:2.0
PRODID:-//AudioTheme 2.3.8
BEGIN:VEVENT
UID:urn:uuid:3e7d1031-902d-41bb-8066-5b49df5a774a
URL:https://forcedtomode.de/shows/hsd-gewerkschaftshaus-8/
DTSTART;TZID=GMT:20251204T173000
SUMMARY:HSD Gewerkschaftshaus
DESCRIPTION:SOLD OUT!
LOCATION:HsD Gewerkschaftshaus\, Juri-Gagarin-Ring 150  \, Erfurt\, (GER)\, Germany\, 99084
END:VEVENT
END:VCALENDAR
