BEGIN:VCALENDAR
VERSION:2.0
PRODID:-//AudioTheme 2.3.8
BEGIN:VEVENT
UID:urn:uuid:3ecd52dd-7f4f-40c5-84bd-151bae908c6b
URL:https://forcedtomode.de/shows/im-wizenann/
DTSTART;TZID=GMT:20230506T180000
SUMMARY:Im Wizemann
DESCRIPTION:SOLD OUT!
LOCATION:Im Wizemann\, Quellenstr. 7\, Stuttgart\, (GER)\, Germany\, 70376
END:VEVENT
END:VCALENDAR
