BEGIN:VCALENDAR
VERSION:2.0
PRODID:-//AudioTheme 2.3.8
BEGIN:VEVENT
UID:urn:uuid:89175409-1803-469c-b896-2bdd24a4d60d
URL:https://forcedtomode.de/shows/kantine/
DTSTART;TZID=GMT:20240412T180000
SUMMARY:Kantine
DESCRIPTION:INFO + TICKETS
LOCATION:Kantine\, Am Exerzierplatz 25a\, Augsburg\, (GER)\, Germany\, 86156
END:VEVENT
END:VCALENDAR
