BEGIN:VCALENDAR
VERSION:2.0
PRODID:-//AudioTheme 2.3.8
BEGIN:VEVENT
UID:urn:uuid:f0a312dc-cb00-43b2-bffc-c0e1672eb459
URL:https://forcedtomode.de/shows/karlsbad-halle/
DTSTART;TZID=GMT:20240622T180000
SUMMARY:Karlsbad Halle
DESCRIPTION:INFO + TICKETS
LOCATION:Karlsbad\, Angersdorfer Teiche 9\, Halle / Saale\, (GER)\, Germany\, 06126
END:VEVENT
END:VCALENDAR
