BEGIN:VCALENDAR
VERSION:2.0
PRODID:-//AudioTheme 2.3.8
BEGIN:VEVENT
UID:urn:uuid:d3103fd8-cd36-418f-9ce7-7873b6f55ea6
URL:https://forcedtomode.de/shows/kauno-oaze/
DTSTART;TZID=GMT:20240926T170000
SUMMARY:Kauno OAZĖ
DESCRIPTION:INFO + TICKETS
LOCATION:Kauno OAZĖ\, Baltų pr. 16\, Kaunas\, (LTU)\, Lithuania\, 48190 Kauno m. sav
END:VEVENT
END:VCALENDAR
