BEGIN:VCALENDAR
VERSION:2.0
PRODID:-//AudioTheme 2.3.8
BEGIN:VEVENT
UID:urn:uuid:7f9a82b1-878f-497a-a457-81c534693149
URL:https://forcedtomode.de/shows/kuehlungsborn-de/
DTSTART;TZID=GMT:20230528T174500
SUMMARY:Konzertgarten West
DESCRIPTION:INFO + TICKETS
LOCATION:Konzertgarten West\, Strandpromenade 19\, Kühlungsborn\, (GER)\, Germany\, 18225
END:VEVENT
END:VCALENDAR
