BEGIN:VCALENDAR
VERSION:2.0
PRODID:-//AudioTheme 2.3.8
BEGIN:VEVENT
UID:urn:uuid:bf6b9d5e-467a-4db8-a02d-6f8a74929224
URL:https://forcedtomode.de/shows/kufa/
DTSTART;TZID=GMT:20230225T170000
SUMMARY:KuFa
DESCRIPTION:INFO + TICKETS
LOCATION:KuFa\, Dießemer Str. 13\, Krefeld\, (GER)\, Germany\, 47799
END:VEVENT
END:VCALENDAR
