BEGIN:VCALENDAR
VERSION:2.0
PRODID:-//AudioTheme 2.3.8
BEGIN:VEVENT
UID:urn:uuid:7e38f63a-6537-402a-9c84-8281cb45d3a0
URL:https://forcedtomode.de/shows/kultur-auf-den-halligen-2/
DTSTART;TZID=GMT:20240616T150000
SUMMARY:Kultur auf den Halligen
DESCRIPTION:INFO + TICKETS
LOCATION:Schafstall Hallig Langeness\, Hilligenley 4\,\, Hallig Langeness\, (GER)\, Germany\, 25863
END:VEVENT
END:VCALENDAR
