BEGIN:VCALENDAR
VERSION:2.0
PRODID:-//AudioTheme 2.3.8
BEGIN:VEVENT
UID:urn:uuid:0905d593-371a-4f7a-8b4c-24565017e44a
URL:https://forcedtomode.de/shows/kulturhaus-4/
DTSTART;TZID=GMT:20230113T190000
SUMMARY:Kulturhaus
DESCRIPTION:INFO + TICKETS
LOCATION:Kulturhaus Torgau\, Rosa-Luxemburg-Platz 16\, Torgau\, (GER)\, Germany\, 04860
END:VEVENT
END:VCALENDAR
