BEGIN:VCALENDAR
VERSION:2.0
PRODID:-//AudioTheme 2.3.8
BEGIN:VEVENT
UID:urn:uuid:85a0cc76-b8a1-4c98-9cce-e0138c3e4b65
URL:https://forcedtomode.de/shows/kulturhaus-5/
DTSTART;TZID=GMT:20251207T180000
SUMMARY:Kulturhaus
DESCRIPTION:INFO + TICKETS
LOCATION:Kulturhaus Neuruppin\, Karl-Marx-Str. 103\, Neuruppin\, (GER)\, Germany\, 16816
END:VEVENT
END:VCALENDAR
