BEGIN:VCALENDAR
VERSION:2.0
PRODID:-//AudioTheme 2.3.8
BEGIN:VEVENT
UID:urn:uuid:bc7919cf-48df-4640-85ae-a233c60861f0
URL:https://forcedtomode.de/shows/kulturhaus-stadtgarten/
DTSTART;TZID=GMT:20230428T180000
SUMMARY:Kulturhaus Stadtgarten
DESCRIPTION:INFO + TICKETS
LOCATION:Kulturhaus Neuruppin\, Karl-Marx-Str. 103\, Neuruppin\, (GER)\, Germany\, 16816
END:VEVENT
END:VCALENDAR
