BEGIN:VCALENDAR
VERSION:2.0
PRODID:-//AudioTheme 2.3.8
BEGIN:VEVENT
UID:urn:uuid:33563529-6048-4a1b-81a8-cc6cc18406db
URL:https://forcedtomode.de/shows/loebau/
DTSTART;TZID=GMT:20230422T180000
SUMMARY:Messehalle
DESCRIPTION:INFO + TICKETS
LOCATION:Messehalle Löbau\, Görlitzer Str. 2\, Löbau\, (GER)\, Germany\, 02708
END:VEVENT
END:VCALENDAR
