BEGIN:VCALENDAR
VERSION:2.0
PRODID:-//AudioTheme 2.3.8
BEGIN:VEVENT
UID:urn:uuid:e41b4ae5-9040-4b0b-9040-3bd0a556ac43
URL:https://forcedtomode.de/shows/lokschuppen-ii/
DTSTART;TZID=GMT:20240322T190000
SUMMARY:Lokschuppen II
DESCRIPTION:INFO + TICKETS
LOCATION:Lokschuppen II\, Gilfershäuser Str. 12b\, Bebra\, (GER)\, Germany\, 36179
END:VEVENT
END:VCALENDAR
