BEGIN:VCALENDAR
VERSION:2.0
PRODID:-//AudioTheme 2.3.8
BEGIN:VEVENT
UID:urn:uuid:744a4c86-d8df-4519-8006-48852c3471c9
URL:https://forcedtomode.de/shows/m-a-u-club-2/
DTSTART;TZID=GMT:20230217T183000
SUMMARY:M.A.U. Club
DESCRIPTION:INFO + TICKETS
LOCATION:M.A.U. Club\, Warnowufer 56\, Rostock\, (GER)\, Germany\, 18057
END:VEVENT
END:VCALENDAR
