BEGIN:VCALENDAR
VERSION:2.0
PRODID:-//AudioTheme 2.3.8
BEGIN:VEVENT
UID:urn:uuid:4adb69b8-9462-4660-bbe2-da119590f090
URL:https://forcedtomode.de/shows/majestic-music-club-2/
DTSTART;TZID=GMT:20251107T190000
SUMMARY:Majestic Music Club
DESCRIPTION:INFO + TICKETS
LOCATION:Majestic Music Club\, Karpatská 3089/2\, Bratislava\, (SVK)\, Slovakia\, 811 05
END:VEVENT
END:VCALENDAR
