BEGIN:VCALENDAR
VERSION:2.0
PRODID:-//AudioTheme 2.3.8
BEGIN:VEVENT
UID:urn:uuid:cb417d73-7608-44cb-8cdd-7c81b2d0b870
URL:https://forcedtomode.de/shows/markthalle-11/
DTSTART;TZID=GMT:20240915T180000
SUMMARY:Markthalle
DESCRIPTION:101 SPECIAL // INFO + TICKETS
LOCATION:Markthalle Hamburg\, Klosterwall 11\, Hamburg\, (GER)\, Germany\, 20095
END:VEVENT
END:VCALENDAR
