BEGIN:VCALENDAR
VERSION:2.0
PRODID:-//AudioTheme 2.3.8
BEGIN:VEVENT
UID:urn:uuid:8b50c854-acd3-4c95-b6bf-0f440e0fa516
URL:https://forcedtomode.de/shows/markthalle-4/
DTSTART;TZID=GMT:20201128T190000
SUMMARY:Markthalle
DESCRIPTION:➔ VERSCHOBEN AUF DEN 26.06.2021  INFO + TICKETS // 2O+2O SPECIAL 2
LOCATION:Markthalle Hamburg\, Klosterwall 11\, Hamburg\, (GER)\, Germany\, 20095
END:VEVENT
END:VCALENDAR
