BEGIN:VCALENDAR
VERSION:2.0
PRODID:-//AudioTheme 2.3.8
BEGIN:VEVENT
UID:urn:uuid:9dcb8d19-3d2f-443a-9612-1235251e999e
URL:https://forcedtomode.de/shows/markthalle-9/
DTSTART;TZID=GMT:20230602T180000
SUMMARY:Markthalle
DESCRIPTION:INFO + TICKETS
LOCATION:Markthalle Hamburg\, Klosterwall 11\, Hamburg\, (GER)\, Germany\, 20095
END:VEVENT
END:VCALENDAR
