BEGIN:VCALENDAR
VERSION:2.0
PRODID:-//AudioTheme 2.3.8
BEGIN:VEVENT
UID:http://forcedtomode.de/wordpress/?post_type=audiotheme_gig&#038;p=793
URL:https://forcedtomode.de/shows/meerane-parkfest-open-air/
DTSTART;TZID=GMT:20160618T180000
SUMMARY:Parkfest (Open Air)
LOCATION:Meerane\, Wilhelm-Wunderlich-Park\, Meerane\, (GER)\, Germany\, 08393
END:VEVENT
END:VCALENDAR
