BEGIN:VCALENDAR
VERSION:2.0
PRODID:-//AudioTheme 2.3.8
BEGIN:VEVENT
UID:urn:uuid:305066b6-eedf-489f-89a8-699df3868401
URL:https://forcedtomode.de/shows/meetfactory/
DTSTART;TZID=GMT:20230512T170000
SUMMARY:MeetFactory
DESCRIPTION:INFO + TICKETS
LOCATION:MeetFactory\, Ke Skl\\u00E1rn\\u011B 15\, Prague\, (CZ)\, Czech Republic\, 15000
END:VEVENT
END:VCALENDAR
