BEGIN:VCALENDAR
VERSION:2.0
PRODID:-//AudioTheme 2.3.8
BEGIN:VEVENT
UID:urn:uuid:514995cd-4404-479e-8afb-fbb0e85136d1
URL:https://forcedtomode.de/shows/messehalle-2/
DTSTART;TZID=GMT:20260410T180000
SUMMARY:Messehalle
DESCRIPTION:BLACK CELEBRATION TOUR / / INFO + TICKETS
LOCATION:Messehalle\, Messering 3\, Frankfurt (Oder)\, (GER)\, Germany\, 15234
END:VEVENT
END:VCALENDAR
