BEGIN:VCALENDAR
VERSION:2.0
PRODID:-//AudioTheme 2.3.8
BEGIN:VEVENT
UID:urn:uuid:16447f46-e599-4f46-a9c8-31f884c8b4bc
URL:https://forcedtomode.de/shows/messehalle-loebau/
DTSTART;TZID=GMT:20240531T180000
SUMMARY:Messehalle Löbau
DESCRIPTION:INFO + TICKETS
LOCATION:Messehalle Löbau\, Görlitzer Str. 2\, Löbau\, (GER)\, Germany\, 02708
END:VEVENT
END:VCALENDAR
