BEGIN:VCALENDAR
VERSION:2.0
PRODID:-//AudioTheme 2.3.8
BEGIN:VEVENT
UID:http://forcedtomode.de/wordpress/?post_type=audiotheme_gig&#038;p=776
URL:https://forcedtomode.de/shows/moritzbastei/
DTSTART;TZID=GMT:20160311T190000
SUMMARY:Moritzbastei
LOCATION:Moritzbastei\, Universitätsstraße 9\, Leipzig\, (GER)\, Deutschland\, 04109
END:VEVENT
END:VCALENDAR
