BEGIN:VCALENDAR
VERSION:2.0
PRODID:-//AudioTheme 2.3.8
BEGIN:VEVENT
UID:urn:uuid:a4b7de58-18b3-4868-8fae-76c1705f17c4
URL:https://forcedtomode.de/shows/moya/
DTSTART;TZID=GMT:20250927T173000
SUMMARY:Moya
DESCRIPTION:SOLD OUT!
LOCATION:Moya\, An der Jägerbäk 1\, Rostock\, (GER)\, Germany\, 18069
END:VEVENT
END:VCALENDAR
