BEGIN:VCALENDAR
VERSION:2.0
PRODID:-//AudioTheme 2.3.8
BEGIN:VEVENT
UID:urn:uuid:1e4fbec2-e251-4c18-b32b-b8abe3efaef5
URL:https://forcedtomode.de/shows/musikhuset-posten-2/
DTSTART;TZID=GMT:20240509T180000
SUMMARY:Musikhuset Posten
DESCRIPTION:INFO + TICKETS
LOCATION:Musikhuset Posten\, Østre stationsvej 35\, Odense\, (DK)\, Denmark\, 5000
END:VEVENT
END:VCALENDAR
