BEGIN:VCALENDAR
VERSION:2.0
PRODID:-//AudioTheme 2.3.8
BEGIN:VEVENT
UID:urn:uuid:d72e803d-48d7-471e-ad09-10051f0c92f6
URL:https://forcedtomode.de/shows/musikklubben-elvaerket/
DTSTART;TZID=GMT:20240508T190000
SUMMARY:Musikklubben Elværket
DESCRIPTION:INFO + TICKETS
LOCATION:Musikklubben Elværket\, Gasværksvej 9\, Holbæk (DK)\, \, Denmark\, 4300
END:VEVENT
END:VCALENDAR
