BEGIN:VCALENDAR
VERSION:2.0
PRODID:-//AudioTheme 2.3.8
BEGIN:VEVENT
UID:urn:uuid:4b4758e0-58dd-4a1b-8268-4eec4d0488f3
URL:https://forcedtomode.de/shows/ncn/
DTSTART;TZID=GMT:20220904T160000
SUMMARY:NCN Festival
DESCRIPTION:INFO + TICKETS
LOCATION:Kulturpark Deutzen\, Arno-Bahndorf-Straße\, Deutzen\, (GER)\, Germany\, 04574
END:VEVENT
END:VCALENDAR
