BEGIN:VCALENDAR
VERSION:2.0
PRODID:-//AudioTheme 2.3.8
BEGIN:VEVENT
UID:http://forcedtomode.de/wordpress/?post_type=audiotheme_gig&#038;p=823
URL:https://forcedtomode.de/shows/noxiris/
DTSTART;TZID=GMT:20160416T180000
SUMMARY:NOXIRIS
LOCATION:Aarburg\, Bahnhofstrasse 50\, Aarburg\, (CH)\, Switzerland\, 4663
END:VEVENT
END:VCALENDAR
