BEGIN:VCALENDAR
VERSION:2.0
PRODID:-//AudioTheme 2.3.8
BEGIN:VEVENT
UID:urn:uuid:eef01ffe-2982-40da-acb4-120d72db1383
URL:https://forcedtomode.de/shows/odertalbuehne-10/
DTSTART;TZID=GMT:20220730T160000
SUMMARY:Odertalbühne
DESCRIPTION:INFO + TICKETS // 2O+2O SPECIAL 2 + SONO
LOCATION:Odertalbühne\, Uckermärkische Bühnen Schwedt  Berliner Str. 46-48\, Schwedt\, (GER)\, Germany\, 16303
END:VEVENT
END:VCALENDAR
