BEGIN:VCALENDAR
VERSION:2.0
PRODID:-//AudioTheme 2.3.8
BEGIN:VEVENT
UID:urn:uuid:879f3347-761a-40de-bb30-7396e785bce7
URL:https://forcedtomode.de/shows/odertalbuehne-12/
DTSTART;TZID=GMT:20240831T170000
SUMMARY:Odertalbühne
DESCRIPTION:SOLD OUT!
LOCATION:Odertalbühne\, Uckermärkische Bühnen Schwedt  Berliner Str. 46-48\, Schwedt\, (GER)\, Germany\, 16303
END:VEVENT
END:VCALENDAR
