BEGIN:VCALENDAR
VERSION:2.0
PRODID:-//AudioTheme 2.3.8
BEGIN:VEVENT
UID:urn:uuid:30fdb73e-5dc3-4df5-8940-7911e38afa8a
URL:https://forcedtomode.de/shows/pappelpark-club-zenit/
DTSTART;TZID=GMT:20240615T170000
SUMMARY:Pappelpark (Club Zenit)
DESCRIPTION:INFO + TICKETS
LOCATION:Pappelpark\, Pappelgrund 15A\, Schwerin\, (GER)\, Germany\, 19055
END:VEVENT
END:VCALENDAR
