BEGIN:VCALENDAR
VERSION:2.0
PRODID:-//AudioTheme 2.3.8
BEGIN:VEVENT
UID:urn:uuid:a1af5b2b-fcb3-41a3-800a-c49461ed5e32
URL:https://forcedtomode.de/shows/portalen/
DTSTART;TZID=GMT:20250604T180000
SUMMARY:Portalen
DESCRIPTION:INFO + TICKETS
LOCATION:Portalen\, Portalen 1\, Greve\, (DK)\, Denmark\, 2670
END:VEVENT
END:VCALENDAR
