BEGIN:VCALENDAR
VERSION:2.0
PRODID:-//AudioTheme 2.3.8
BEGIN:VEVENT
UID:urn:uuid:eb769687-2a68-4d36-8d03-4c05768b9bc3
URL:https://forcedtomode.de/shows/pramogu-sale-vakaris/
DTSTART;TZID=GMT:20240927T170000
SUMMARY:Pramogų salė VAKARIS
DESCRIPTION:INFO + TICKETS
LOCATION:Pramogų salė VAKARIS\, A. Stulginskio g. 8\, Vilnius\, (LTU)\, Lithuania\, 01115 Vilniaus m. sav.
END:VEVENT
END:VCALENDAR
