BEGIN:VCALENDAR
VERSION:2.0
PRODID:-//AudioTheme 2.3.8
BEGIN:VEVENT
UID:urn:uuid:7400fa2d-6744-4cf0-bc19-bb0fbc0f9eb1
URL:https://forcedtomode.de/shows/progresja-2/
DTSTART;TZID=GMT:20251121T180000
SUMMARY:Progresja
DESCRIPTION:INFO + TICKETS
LOCATION:Progresja\, Fort Wola 22\, Warszawa\, (PL)\, Poland\, 01-258
END:VEVENT
END:VCALENDAR
