BEGIN:VCALENDAR
VERSION:2.0
PRODID:-//AudioTheme 2.3.8
BEGIN:VEVENT
UID:urn:uuid:74f76245-751a-4956-a62b-cc328d36e9bb
URL:https://forcedtomode.de/shows/remontehalle/
DTSTART;TZID=GMT:20240601T170000
SUMMARY:Remontehalle
DESCRIPTION:INFO + TICKETS
LOCATION:Remontehalle\, Husarenstraße 1-3\, Großenhain\, (GER)\, Germany\, 01558
END:VEVENT
END:VCALENDAR
