BEGIN:VCALENDAR
VERSION:2.0
PRODID:-//AudioTheme 2.3.8
BEGIN:VEVENT
UID:urn:uuid:a44ad9c8-f9c4-450c-884c-17ea8283bb2f
URL:https://forcedtomode.de/shows/rhein-in-flammen/
DTSTART;TZID=GMT:20230505T180000
SUMMARY:Rhein in Flammen
DESCRIPTION:INFO + TICKETS
LOCATION:Hauptbühne\, Rhein in Flammen\, Bonn\, (GER)
END:VEVENT
END:VCALENDAR
