BEGIN:VCALENDAR
VERSION:2.0
PRODID:-//AudioTheme 2.3.8
BEGIN:VEVENT
UID:urn:uuid:7ce54ba1-e62b-4cdb-88c7-4d4ad1aded9f
URL:https://forcedtomode.de/shows/ringsted-kongrescenter-2/
DTSTART;TZID=GMT:20240420T180000
SUMMARY:Ringsted Kongrescenter
DESCRIPTION:INFO + TICKETS
LOCATION:Ringsted Kongrescenter\, Nørretorv 55 k\, Ringsted\, (DK)\, Denmark\, 4100
END:VEVENT
END:VCALENDAR
