BEGIN:VCALENDAR
VERSION:2.0
PRODID:-//AudioTheme 2.3.8
BEGIN:VEVENT
UID:urn:uuid:4a1ec787-3fe7-43a3-94bb-161322953d77
URL:https://forcedtomode.de/shows/ringsted-kongrescenter/
DTSTART;TZID=GMT:20230219T180000
SUMMARY:Ringsted Kongrescenter
DESCRIPTION:INFO + TICKETS
LOCATION:Ringsted Kongrescenter\, Nørretorv 55 k\, Ringsted\, (DK)\, Denmark\, 4100
END:VEVENT
END:VCALENDAR
