BEGIN:VCALENDAR
VERSION:2.0
PRODID:-//AudioTheme 2.3.8
BEGIN:VEVENT
UID:urn:uuid:4b7f7573-8382-42ab-9475-4c933e390d6e
URL:https://forcedtomode.de/shows/rock-am-see-tender-2/
DTSTART;TZID=GMT:20220902T160000
SUMMARY:Rock am See - Tender
DESCRIPTION:SOLD OUT!
LOCATION:Strandbad Tenderingsee\, Tenderingsweg 1\,\, Voerde\, (GER)\, Germany\, 46562
END:VEVENT
END:VCALENDAR
