BEGIN:VCALENDAR
VERSION:2.0
PRODID:-//AudioTheme 2.3.8
BEGIN:VEVENT
UID:urn:uuid:c4dcd130-feb1-4564-b025-65a95ce400f0
URL:https://forcedtomode.de/shows/rock-am-see-tender/
DTSTART;TZID=GMT:20190907T160000
SUMMARY:Rock am See - Tender
DESCRIPTION:INFO + TICKETS
LOCATION:Strandbad Tenderingsee\, Tenderingsweg 1\,\, Voerde\, (GER)\, Germany\, 46562
END:VEVENT
END:VCALENDAR
