BEGIN:VCALENDAR
VERSION:2.0
PRODID:-//AudioTheme 2.3.8
BEGIN:VEVENT
UID:urn:uuid:74fe6f1b-bb72-4e4d-9758-eabbf8e5be70
URL:https://forcedtomode.de/shows/roxy-2/
DTSTART;TZID=GMT:20240502T160000
SUMMARY:Roxy
DESCRIPTION:INFO + TICKETS
LOCATION:Roxy\, Dlouhá 33\, Prague\, (CZ)\, 1 110 00
END:VEVENT
END:VCALENDAR
