BEGIN:VCALENDAR
VERSION:2.0
PRODID:-//AudioTheme 2.3.8
BEGIN:VEVENT
UID:urn:uuid:87518ab5-5f42-4d23-b3fb-c6001281d86b
URL:https://forcedtomode.de/shows/roxy-3/
DTSTART;TZID=GMT:20240511T180000
SUMMARY:Retro Music Hall
DESCRIPTION:INFO + TICKETS
LOCATION:Retro Music Hall\, Mergenthalerstraße 6\, Flensburg\, (GER)\, Germany\, 24941
END:VEVENT
END:VCALENDAR
