BEGIN:VCALENDAR
VERSION:2.0
PRODID:-//AudioTheme 2.3.8
BEGIN:VEVENT
UID:urn:uuid:49c15f75-c3f9-429b-9a26-50c0c70b380f
URL:https://forcedtomode.de/shows/roxy/
DTSTART;TZID=GMT:20230107T190000
SUMMARY:Roxy
DESCRIPTION:INFO + TICKETS
LOCATION:Retro Music Hall\, Mergenthalerstraße 6\, Flensburg\, (GER)\, Germany\, 24941
END:VEVENT
END:VCALENDAR
