BEGIN:VCALENDAR
VERSION:2.0
PRODID:-//AudioTheme 2.3.8
BEGIN:VEVENT
UID:urn:uuid:853ee45d-7d56-4619-a11b-6f6c26315417
URL:https://forcedtomode.de/shows/schl8hof-2/
DTSTART;TZID=GMT:20240907T180000
SUMMARY:Schl8hof
DESCRIPTION:INFO + TICKETS
LOCATION:Schl8hof\, Dragonerstraße 22\, Wels\, (AUT)\, Österreich\, 4600
END:VEVENT
END:VCALENDAR
