BEGIN:VCALENDAR
VERSION:2.0
PRODID:-//AudioTheme 2.3.8
BEGIN:VEVENT
UID:urn:uuid:d88cc59e-afcd-4eb3-8a59-49c58b842467
URL:https://forcedtomode.de/shows/schl8hof/
DTSTART;TZID=GMT:20230415T180000
SUMMARY:Schl8hof
DESCRIPTION:INFO + TICKETS
LOCATION:Schl8hof\, Dragonerstraße 22\, Wels\, (AUT)\, Österreich\, 4600
END:VEVENT
END:VCALENDAR
