BEGIN:VCALENDAR
VERSION:2.0
PRODID:-//AudioTheme 2.3.8
BEGIN:VEVENT
UID:http://forcedtomode.de/wordpress/?post_type=audiotheme_gig&#038;p=785
URL:https://forcedtomode.de/shows/schoenewalde-heimatfest-open-air/
DTSTART;TZID=GMT:20160515T180000
SUMMARY:Heimatfest (Open Air)
LOCATION:Stadtfest Schönewalde\, Grüner Weg\, Schönewalde\, (GER)\, Germany\, 04916
END:VEVENT
END:VCALENDAR
