BEGIN:VCALENDAR
VERSION:2.0
PRODID:-//AudioTheme 2.3.8
BEGIN:VEVENT
UID:urn:uuid:1d0e9921-c80a-44e5-8bc3-41578a7a6e2c
URL:https://forcedtomode.de/shows/sever-synth-fest-2025/
DTSTART;TZID=GMT:20251108T150000
SUMMARY:Sever Synth Fest 2025
DESCRIPTION:INFO + TICKETS
LOCATION:Dům Kultury\, nám. Soukenné 613/3 Liberec IV-Perštýn\, Liberec\, (CZ)\, Czech Republic\, 460 01
END:VEVENT
END:VCALENDAR
