BEGIN:VCALENDAR
VERSION:2.0
PRODID:-//AudioTheme 2.3.8
BEGIN:VEVENT
UID:urn:uuid:50daa345-4dc1-41bf-8982-92a3128cea37
URL:https://forcedtomode.de/shows/shelter-festival/
DTSTART;TZID=GMT:20240719T100000
SUMMARY:Shelter Festival
DESCRIPTION:INFO + TICKETS
LOCATION:Shelter Festival\, Fliegerhorst\, Eggebek\, (GER)\, Germany\, 24852
END:VEVENT
END:VCALENDAR
