BEGIN:VCALENDAR
VERSION:2.0
PRODID:-//AudioTheme 2.3.8
BEGIN:VEVENT
UID:http://forcedtomode.de/wordpress/?post_type=audiotheme_gig&#038;p=787
URL:https://forcedtomode.de/shows/sint-niklaas-bel-de-casino/
DTSTART;TZID=GMT:20160520T180000
SUMMARY:De Casino
LOCATION:Sint-Niklaas\, Stationsstraat 104\, Sint-Niklaas\, (BEL)\, Belgium\, 9100
END:VEVENT
END:VCALENDAR
